BEGIN:VCALENDAR
VERSION:2.0
METHOD:PUBLISH
CALSCALE:GREGORIAN
BEGIN:VEVENT
UID:327ebfa5-09b6-4bda-8705-069c5247b7ef
SEQUENCE:0
CLASS:PUBLIC
PRIORITY:5
DTSTAMP:20260424T112334Z
CREATED:20260424T112334Z
DTSTART:20260729T040000Z
DTEND:20260731T040000Z
TRANSP:1
SUMMARY:2026 Supplemental Health, DI & LTC Conference
LOCATION:Hyatt Regency Savannah, Savannah, GA
DESCRIPTION:Navigating Change
BEGIN:VALARM
TRIGGER:-PT30M
ACTION:DISPLAY
DESCRIPTION:Reminder
END:VALARM
END:VEVENT
END:VCALENDAR
