BEGIN:VCALENDAR
VERSION:2.0
METHOD:PUBLISH
CALSCALE:GREGORIAN
BEGIN:VEVENT
UID:cc332792-e28f-4b41-9d31-24a1a2a77421
SEQUENCE:0
CLASS:PUBLIC
PRIORITY:5
DTSTAMP:20260423T101357Z
CREATED:20260423T101357Z
DTSTART:20260512T040000Z
DTEND:20260513T040000Z
TRANSP:1
SUMMARY:2026 Wholesaler Leadership Summit
LOCATION:Renaissance Orlando at SeaWorld, Orlando, FL
BEGIN:VALARM
TRIGGER:-PT30M
ACTION:DISPLAY
DESCRIPTION:Reminder
END:VALARM
END:VEVENT
END:VCALENDAR
